BEGIN:VCALENDAR
VERSION:2.0
PRODID:spatie/icalendar-generator
DESCRIPTION:Events from The Link
X-WR-CALDESC:Events from The Link
REFRESH-INTERVAL;VALUE=DURATION:PT1440M
X-PUBLISHED-TTL:PT1440M
BEGIN:VTIMEZONE
TZID:Europe/London
BEGIN:STANDARD
DTSTART:20251026T020000Z
TZOFFSETFROM:+0100
TZOFFSETTO:+0000
END:STANDARD
BEGIN:DAYLIGHT
DTSTART:20260329T010000Z
TZOFFSETFROM:+0000
TZOFFSETTO:+0100
END:DAYLIGHT
END:VTIMEZONE
BEGIN:VTIMEZONE
TZID:UTC
BEGIN:STANDARD
DTSTART:20250725T140911Z
TZOFFSETFROM:+0000
TZOFFSETTO:+0000
END:STANDARD
END:VTIMEZONE
BEGIN:VEVENT
UID:137-5
DTSTAMP:20260421T140911Z
SUMMARY:Mobile Post Office
LOCATION:Church Street Rooms Church Street  Corby Glen Lincolnshire NG33 4N
 J
ORGANIZER;CN=The Link:MAILTO:editor@corbyglen.link
RRULE:FREQ=WEEKLY;UNTIL=20261231T000000Z
DTSTART;TZID=Europe/London:20260403T150000
DTEND;TZID=Europe/London:20260403T160000
X-ALT-DESC;FMTTYPE=TEXT/HTML:<p>Mobile Post Office\, Church Street Rooms Ca
 r Park</p>\n
CATEGORIES:General
URL;VALUE=URI:https://corbyglen.link/events/mobile-post-office-4/?mc_id=137
METHOD:PUBLISH
END:VEVENT
END:VCALENDAR