BEGIN:VCALENDAR
VERSION:2.0
PRODID:spatie/icalendar-generator
DESCRIPTION:Events from The Link
X-WR-CALDESC:Events from The Link
REFRESH-INTERVAL;VALUE=DURATION:PT1440M
X-PUBLISHED-TTL:PT1440M
BEGIN:VTIMEZONE
TZID:Europe/London
BEGIN:STANDARD
DTSTART:20251026T020000Z
TZOFFSETFROM:+0100
TZOFFSETTO:+0000
END:STANDARD
BEGIN:DAYLIGHT
DTSTART:20260329T010000Z
TZOFFSETFROM:+0000
TZOFFSETTO:+0100
END:DAYLIGHT
BEGIN:STANDARD
DTSTART:20261025T020000Z
TZOFFSETFROM:+0100
TZOFFSETTO:+0000
END:STANDARD
END:VTIMEZONE
BEGIN:VTIMEZONE
TZID:UTC
BEGIN:STANDARD
DTSTART:20250726T121358Z
TZOFFSETFROM:+0000
TZOFFSETTO:+0000
END:STANDARD
END:VTIMEZONE
BEGIN:VEVENT
UID:241-14
DTSTAMP:20260422T121358Z
SUMMARY:Line dancing for beginners
LOCATION:Church Street Rooms Church Street  Corby Glen Lincolnshire NG33 4N
 J
ORGANIZER;CN=The Link:MAILTO:editor@corbyglen.link
RRULE:FREQ=WEEKLY;UNTIL=20261228T000000Z
DTSTART;TZID=Europe/London:20260428T173000
DTEND;TZID=Europe/London:20260428T183000
X-ALT-DESC;FMTTYPE=TEXT/HTML:Get started with line dancing very Tuesday eve
 ning from 5.30pm to 6.30pm in the Church Street Rooms
CATEGORIES:Keep fit
URL;VALUE=URI:https://corbyglen.link/events/line-dancing-for-beginners/?mc_
 id=241
METHOD:PUBLISH
END:VEVENT
END:VCALENDAR