BEGIN:VCALENDAR
VERSION:2.0
PRODID:spatie/icalendar-generator
DESCRIPTION:Events from The Link
X-WR-CALDESC:Events from The Link
REFRESH-INTERVAL;VALUE=DURATION:PT1440M
X-PUBLISHED-TTL:PT1440M
BEGIN:VTIMEZONE
TZID:Europe/London
BEGIN:STANDARD
DTSTART:20251026T020000Z
TZOFFSETFROM:+0100
TZOFFSETTO:+0000
END:STANDARD
BEGIN:DAYLIGHT
DTSTART:20260329T010000Z
TZOFFSETFROM:+0000
TZOFFSETTO:+0100
END:DAYLIGHT
END:VTIMEZONE
BEGIN:VTIMEZONE
TZID:UTC
BEGIN:STANDARD
DTSTART:20250726T121640Z
TZOFFSETFROM:+0000
TZOFFSETTO:+0000
END:STANDARD
END:VTIMEZONE
BEGIN:VEVENT
UID:279-15
DTSTAMP:20260422T121640Z
SUMMARY:Line Dancing
LOCATION:Church Street Rooms Church Street  Corby Glen Lincolnshire NG33 4N
 J
ORGANIZER;CN=The Link:MAILTO:editor@corbyglen.link
RRULE:FREQ=WEEKLY;UNTIL=20261230T000000Z
DTSTART;TZID=Europe/London:20260401T183000
DTEND;TZID=Europe/London:20260401T203000
X-ALT-DESC;FMTTYPE=TEXT/HTML:<p>Line Dancing\, every Wednesday from 6.30pm 
 to 8.30pm</p>\n
CATEGORIES:Keep fit
URL;VALUE=URI:https://corbyglen.link/events/line-dancing/?mc_id=279
METHOD:PUBLISH
END:VEVENT
END:VCALENDAR