BEGIN:VCALENDAR
VERSION:2.0
PRODID:spatie/icalendar-generator
DESCRIPTION:Events from The Link
X-WR-CALDESC:Events from The Link
REFRESH-INTERVAL;VALUE=DURATION:PT1440M
X-PUBLISHED-TTL:PT1440M
BEGIN:VTIMEZONE
TZID:Europe/London
BEGIN:STANDARD
DTSTART:20251026T020000Z
TZOFFSETFROM:+0100
TZOFFSETTO:+0000
END:STANDARD
BEGIN:DAYLIGHT
DTSTART:20260329T010000Z
TZOFFSETFROM:+0000
TZOFFSETTO:+0100
END:DAYLIGHT
BEGIN:STANDARD
DTSTART:20261025T020000Z
TZOFFSETFROM:+0100
TZOFFSETTO:+0000
END:STANDARD
END:VTIMEZONE
BEGIN:VTIMEZONE
TZID:UTC
BEGIN:STANDARD
DTSTART:20250726T123812Z
TZOFFSETFROM:+0000
TZOFFSETTO:+0000
END:STANDARD
END:VTIMEZONE
BEGIN:VEVENT
UID:450-17
DTSTAMP:20260422T123812Z
SUMMARY:Move it or lose it!
LOCATION:Church Street Rooms Church Street  Corby Glen Lincolnshire NG33 4N
 J
ORGANIZER;CN=The Link:MAILTO:editor@corbyglen.link
RRULE:FREQ=WEEKLY;UNTIL=20261218T000000Z
DTSTART;TZID=Europe/London:20260501T113000
DTEND;TZID=Europe/London:20260501T123000
X-ALT-DESC;FMTTYPE=TEXT/HTML:<p>Move it or lose it! Every Friday\, 11.30am 
 to 12.30pm\, Church Street Rooms</p>\n
CATEGORIES:Keep fit
URL;VALUE=URI:https://corbyglen.link/events/move-it-or-lose-it/?mc_id=450
METHOD:PUBLISH
END:VEVENT
END:VCALENDAR